BEGIN:VCALENDAR
VERSION:2.0
CALSCALE:GREGORIAN
PRODID:adamgibbons/ics
METHOD:PUBLISH
X-PUBLISHED-TTL:PT1H
BEGIN:VEVENT
UID:oHoT2ULTuYxNQyoJ3mR0P
SUMMARY:[Calendario XR] Encuesta: Dinos tu preferencia para las fechas de l
	as BIENVENIDAS ONLINE
DTSTAMP:20260102T141300Z
DTSTART:20260222T230000Z
DTEND:20260629T220000Z
URL:https://calendario.extinctionrebellion.es/event/ecuesta-de-opinion-para
	-bienvenidas
LOCATION:Online - zoom
STATUS:CONFIRMED
CATEGORIES:,,,
END:VEVENT
BEGIN:VEVENT
UID:6wbh-gMc3rjzCvVmPudM4
SUMMARY:[Calendario XR] Bienvenida a Rebelión Científica - Jueves
DTSTAMP:20260102T141300Z
DTSTART:20260430T170000Z
DTEND:20260430T180000Z
URL:https://calendario.extinctionrebellion.es/event/bienvenida-a-rebelion-c
	ientifica-jueves-155
LOCATION:Online - zoom
STATUS:CONFIRMED
CATEGORIES:,
END:VEVENT
END:VCALENDAR
